BEGIN:VCALENDAR
VERSION:2.0
PRODID:-//UTEL - Université du Temps Libre - Maubeuge - ECPv6.15.20//NONSGML v1.0//EN
CALSCALE:GREGORIAN
METHOD:PUBLISH
X-WR-CALNAME:UTEL - Université du Temps Libre - Maubeuge
X-ORIGINAL-URL:https://utel-maubeuge.fr
X-WR-CALDESC:Évènements pour UTEL - Université du Temps Libre - Maubeuge
REFRESH-INTERVAL;VALUE=DURATION:PT1H
X-Robots-Tag:noindex
X-PUBLISHED-TTL:PT1H
BEGIN:VTIMEZONE
TZID:Europe/Paris
BEGIN:DAYLIGHT
TZOFFSETFROM:+0100
TZOFFSETTO:+0200
TZNAME:CEST
DTSTART:20250330T010000
END:DAYLIGHT
BEGIN:STANDARD
TZOFFSETFROM:+0200
TZOFFSETTO:+0100
TZNAME:CET
DTSTART:20251026T010000
END:STANDARD
BEGIN:DAYLIGHT
TZOFFSETFROM:+0100
TZOFFSETTO:+0200
TZNAME:CEST
DTSTART:20260329T010000
END:DAYLIGHT
BEGIN:STANDARD
TZOFFSETFROM:+0200
TZOFFSETTO:+0100
TZNAME:CET
DTSTART:20261025T010000
END:STANDARD
BEGIN:DAYLIGHT
TZOFFSETFROM:+0100
TZOFFSETTO:+0200
TZNAME:CEST
DTSTART:20270328T010000
END:DAYLIGHT
BEGIN:STANDARD
TZOFFSETFROM:+0200
TZOFFSETTO:+0100
TZNAME:CET
DTSTART:20271031T010000
END:STANDARD
END:VTIMEZONE
BEGIN:VEVENT
DTSTART;TZID=Europe/Paris:20260303T141500
DTEND;TZID=Europe/Paris:20260303T153000
DTSTAMP:20260419T145028
CREATED:20260114T165644Z
LAST-MODIFIED:20260114T165644Z
UID:1341-1772547300-1772551800@utel-maubeuge.fr
SUMMARY:Art floral - 14h15 - (sur inscription)
DESCRIPTION:
URL:https://utel-maubeuge.fr/event/art-floral-14h15-sur-inscription/
LOCATION:Nymphéa\, 204 Route d'avesnes\, 59720 Louvroil\, Louvroil\, 59720\, France
CATEGORIES:Art floral
END:VEVENT
END:VCALENDAR